Workbook

Sheet Contribuição Previdenciária
A1: Ano | B1: CPRB | C1: Parte da Receita Bruta é Onerada? | D1: % da RB Desonerada | E1: % da RB Onerada | F1: Alíquota CPRB | G1: Folha | H1: Receita Bruta Desonerada | I1: Impostos | J1: Receita Líquida | K1: Custo da Folha de Pagamentos | L1: Salários | M1: Breakpoint | N1: Receita Bruta Onerada | O1: Receita Líquida | P1: Custo da Folha de Pagamentos | Q1: Salários | R1: Folha | S1: Contribuição RB Onerada
A2: 2024 | B2: 0.045 | C2: =IF(PROPER('Simulação Tributária'!$H$9) = "Não", "Não", "Sim") -> Sim | D2: =IF('Simulação Tributária'!$H$12 > 0, 'Simulação Tributária'!$H$12, 0.4) -> 0.5 | E2: =1 - D2 -> 0.5 | F2: =IF('Simulação Tributária'!$H$28 > 0, 'Simulação Tributária'!$H$28, 0.045) -> 0.02 | G2: 0.2 | H2: 1 | I2: 0.1078 | J2: =IF('Simulação Tributária'!$H$19 > 0, 'Simulação Tributária'!$H$19, 0.8922) -> 0.8922 | K2: =IF('Simulação Tributária'!$H$22 > 0, 'Simulação Tributária'!$H$22, 0.5) -> 0.65 | L2: =IF('Simulação Tributária'!$H$25 > 0, 'Simulação Tributária'!$H$25, 2/3) -> 0.66666667 | M2: 0.4034 | N2: 1 | O2: =IF('Simulação Tributária'!$L$19 > 0, 'Simulação Tributária'!$L$19, 0.8922) -> 0.8922 | P2: =IF('Simulação Tributária'!$L$22 > 0, 'Simulação Tributária'!$L$22, 0.4) -> 0.4 | Q2: =IF('Simulação Tributária'!$L$25 > 0, 'Simulação Tributária'!$L$25, 0.5) -> 0.5 | R2: 0.2 | S2: =(('Contribuição Previdenciária'!O2 * 'Contribuição Previdenciária'!P2) * 'Contribuição Previdenciária'!Q2) * 'Contribuição Previdenciária'!R2 -> 0.035688
A3: 2025 | B3: 0.036 | C3: =IF(PROPER('Simulação Tributária'!$H$9) = "Não", "Não", "Sim") -> Sim | D3: =IF('Simulação Tributária'!$H$12 > 0, 'Simulação Tributária'!$H$12, 0.4) -> 0.5 | E3: =1 - D3 -> 0.5 | F3: =IF('Simulação Tributária'!$H$28 > 0, 'Simulação Tributária'!$H$28, 0.045) -> 0.02 | G3: 0.05 | H3: 1 | I3: 0.1078 | J3: =IF('Simulação Tributária'!$H$19 > 0, 'Simulação Tributária'!$H$19, 0.8922) -> 0.8922 | K3: =IF('Simulação Tributária'!$H$22 > 0, 'Simulação Tributária'!$H$22, 0.5) -> 0.65 | L3: =IF('Simulação Tributária'!$H$25 > 0, 'Simulação Tributária'!$H$25, 2/3) -> 0.66666667 | M3: 0.4539 | N3: 1 | O3: =IF('Simulação Tributária'!$L$19 > 0, 'Simulação Tributária'!$L$19, 0.8922) -> 0.8922 | P3: =IF('Simulação Tributária'!$L$22 > 0, 'Simulação Tributária'!$L$22, 0.4) -> 0.4 | Q3: =IF('Simulação Tributária'!$L$25 > 0, 'Simulação Tributária'!$L$25, 0.5) -> 0.5 | R3: 0.2 | S3: =(('Contribuição Previdenciária'!O3 * 'Contribuição Previdenciária'!P3) * 'Contribuição Previdenciária'!Q3) * 'Contribuição Previdenciária'!R3 -> 0.035688
A4: 2026 | B4: 0.027 | C4: =IF(PROPER('Simulação Tributária'!$H$9) = "Não", "Não", "Sim") -> Sim | D4: =IF('Simulação Tributária'!$H$12 > 0, 'Simulação Tributária'!$H$12, 0.4) -> 0.5 | E4: =1 - D4 -> 0.5 | F4: =IF('Simulação Tributária'!$H$28 > 0, 'Simulação Tributária'!$H$28, 0.045) -> 0.02 | G4: 0.1 | H4: 1 | I4: 0.1078 | J4: =IF('Simulação Tributária'!$H$19 > 0, 'Simulação Tributária'!$H$19, 0.8922) -> 0.8922 | K4: =IF('Simulação Tributária'!$H$22 > 0, 'Simulação Tributária'!$H$22, 0.5) -> 0.65 | L4: =IF('Simulação Tributária'!$H$25 > 0, 'Simulação Tributária'!$H$25, 2/3) -> 0.66666667 | M4: 0.6052 | N4: 1 | O4: =IF('Simulação Tributária'!$L$19 > 0, 'Simulação Tributária'!$L$19, 0.8922) -> 0.8922 | P4: =IF('Simulação Tributária'!$L$22 > 0, 'Simulação Tributária'!$L$22, 0.4) -> 0.4 | Q4: =IF('Simulação Tributária'!$L$25 > 0, 'Simulação Tributária'!$L$25, 0.5) -> 0.5 | R4: 0.2 | S4: =(('Contribuição Previdenciária'!O4 * 'Contribuição Previdenciária'!P4) * 'Contribuição Previdenciária'!Q4) * 'Contribuição Previdenciária'!R4 -> 0.035688
A5: 2027 | B5: 0.018 | C5: =IF(PROPER('Simulação Tributária'!$H$9) = "Não", "Não", "Sim") -> Sim | D5: =IF('Simulação Tributária'!$H$12 > 0, 'Simulação Tributária'!$H$12, 0.4) -> 0.5 | E5: =1 - D5 -> 0.5 | F5: =IF('Simulação Tributária'!$H$28 > 0, 'Simulação Tributária'!$H$28, 0.045) -> 0.02 | G5: 0.15 | H5: 1 | I5: 0.1078 | J5: =IF('Simulação Tributária'!$H$19 > 0, 'Simulação Tributária'!$H$19, 0.8922) -> 0.8922 | K5: =IF('Simulação Tributária'!$H$22 > 0, 'Simulação Tributária'!$H$22, 0.5) -> 0.65 | L5: =IF('Simulação Tributária'!$H$25 > 0, 'Simulação Tributária'!$H$25, 2/3) -> 0.66666667 | N5: 1 | O5: =IF('Simulação Tributária'!$L$19 > 0, 'Simulação Tributária'!$L$19, 0.8922) -> 0.8922 | P5: =IF('Simulação Tributária'!$L$22 > 0, 'Simulação Tributária'!$L$22, 0.4) -> 0.4 | Q5: =IF('Simulação Tributária'!$L$25 > 0, 'Simulação Tributária'!$L$25, 0.5) -> 0.5 | R5: 0.2 | S5: =(('Contribuição Previdenciária'!O5 * 'Contribuição Previdenciária'!P5) * 'Contribuição Previdenciária'!Q5) * 'Contribuição Previdenciária'!R5 -> 0.035688
A6: 2028 | B6: 0 | C6: =IF(PROPER('Simulação Tributária'!$H$9) = "Não", "Não", "Sim") -> Sim | D6: =IF('Simulação Tributária'!$H$12 > 0, 'Simulação Tributária'!$H$12, 0.4) -> 0.5 | E6: =1 - D6 -> 0.5 | F6: =IF('Simulação Tributária'!$H$28 > 0, 'Simulação Tributária'!$H$28, 0.045) -> 0.02 | G6: 0.2 | H6: 1 | I6: 0.1078 | J6: =IF('Simulação Tributária'!$H$19 > 0, 'Simulação Tributária'!$H$19, 0.8922) -> 0.8922 | K6: =IF('Simulação Tributária'!$H$22 > 0, 'Simulação Tributária'!$H$22, 0.5) -> 0.65 | L6: =IF('Simulação Tributária'!$H$25 > 0, 'Simulação Tributária'!$H$25, 2/3) -> 0.66666667 | N6: 1 | O6: =IF('Simulação Tributária'!$L$19 > 0, 'Simulação Tributária'!$L$19, 0.8922) -> 0.8922 | P6: =IF('Simulação Tributária'!$L$22 > 0, 'Simulação Tributária'!$L$22, 0.4) -> 0.4 | Q6: =IF('Simulação Tributária'!$L$25 > 0, 'Simulação Tributária'!$L$25, 0.5) -> 0.5 | R6: 0.2 | S6: =(('Contribuição Previdenciária'!O6 * 'Contribuição Previdenciária'!P6) * 'Contribuição Previdenciária'!Q6) * 'Contribuição Previdenciária'!R6 -> 0.035688

Sheet Simulação Tributária
H8: Insira o valor: | P8: Premissas:
D9: Parte da Receita Bruta é onerada? | H9: Sim | I9: ex.: Sim
D10: (Sim ou Não) | P10: "A Receita Bruta Total é 100%"
H11: Insira o valor: | P11: "Quando os campos nas células em verde estão vazios, são considerados os valores dos exemplos"
D12: Receita Bruta desonerada: | H12: 0.5 | I12: ex.: 40%
D13: (% da Receita Bruta Total) | P13: "Para o cálculo da contribuição previdenciária patronal foram calculadas separadamente a contribuição da parte da Receita Bruta Desonerada e da Onerada para depois somá-las"
C15: "Os campos abaixo sobre a parte desonerada e onerada seguem a premissa de que a Receita Bruta é 100% para cada uma das partes (100% da RB Desonerada e 100% da RB Onerada). Ex.: Indique a % da Receita Líquida da parte desonerada proveniente da RB Desonerada."
H16: Sobre a parte da RB Desonerada: | L16: Sobre a parte da RB Onerada: | P16: Simulação da Contribuição Previdenciária Patronal
H18: Insira o valor: | L18: Insira o valor: | P18: "O simulador desenvolvido pela Brasscom tem como objetivo auxiliar na avaliação de até quando vale a pena optar pela desoneração. Ele permite a alteração dos valores nas células, e automaticamente calcula e sinaliza, por meio de bandeiras e gráfico, se é mais vantajoso manter a desoneração (considerando a escala gradual do PL 1847) ou optar pela contribuição de 20% sobre a folha de pagamento."
D19: Receita Líquida: | I19: ex.: 89,2% | M19: ex.: 89,2%
D20: (% da Receita Bruta)
H21: Insira o valor: | L21: Insira o valor:
D22: Custo da Folha de Pagamento: | H22: 0.65 | I22: ex.: 50% | M22: ex.: 40%
D23: (% da Receita Líquida)
H24: Insira o valor: | L24: Insira o valor:
D25: Salários: | I25: ex.: 66,7% | M25: ex.: 50% | P25: "Quando há uma parte da Receita Bruta Total Desonerada e outra Onerada, após calcular a contribuição previdenciária patronal de cada parte separadamente é feita uma multiplicação nessa contribuição com base na participação dessa parte (desonerada ou onerada) na RB Total, para assim ter a representação fiel de quanto cada parte representa na CPP total da empresa. Ex.: Se a CPP da parte desonerada em 2024 foi 4,5%, multiplica-se isso pela % de participação da RB Desonerada na RB Total da empresa: 4,5% * 40% = 1,8%"
D26: (% do Custo da Folha de Pagamento)
H27: Insira o valor:
D28: Alíquota CPRB: | H28: 0.02 | I28: ex.: 4,5%
D29: (De acordo com a Lei da Desoneração para cada setor)
G31: Vale a pena continuar na desoneração até: | H31: =IF(J56 > L56, D56, IF(J57 > L57, D56, IF(J58 > L58, D57, IF(J59 > L59, D58, D59)))) -> 2027
F33: Cálculo da Contribuição Previdenciária Patronal | Q33: PL 1847
Q34: Escala da transição
D35: Parte Desonerada | L35: Parte Onerada | P35: Ano | Q35: % da Alíquota CPRB | R35: % da Folha
P36: 2024 | Q36: 1 | R36: 0
F37: Alíquota sobre a Receita Bruta Desonerada | G37: Percentual de Contribuição sobre a Folha Desonerada | P37: 2025 | Q37: 0.8 | R37: 0.05
P38: 2026 | Q38: 0.6 | R38: 0.1
P39: 2027 | Q39: 0.4 | R39: 0.15
I40: CPRB + Folha | P40: 2028 | Q40: 0 | R40: 0.2
D41: Ano | F41: CPRB | G41: Folha | I41: Contribuição (Desoneração) | J41: 20% da Folha | L41: Ano | M41: 20% da Folha
D42: 2024 | F42: ='Contribuição Previdenciária'!$F$2 -> 0.02 | G42: 0 | H42: #VALUE! | I42: =G42+F42 -> 0.02 | J42: =$G$46 -> 0.077324 | L42: 2024 | M42: =IF('Contribuição Previdenciária'!$C$2 = "Sim", 'Contribuição Previdenciária'!S2, 0) -> 0.035688
D43: 2025 | F43: =F42*Q37 -> 0.016 | G43: =(('Contribuição Previdenciária'!K3 * 'Contribuição Previdenciária'!J3) * 'Contribuição Previdenciária'!L3) * 'Contribuição Previdenciária'!G3 -> 0.019331 | I43: =G43+F43 -> 0.035331 | J43: =$G$46 -> 0.077324 | L43: 2025 | M43: =IF('Contribuição Previdenciária'!$C$2 = "Sim", 'Contribuição Previdenciária'!S3, 0) -> 0.035688
D44: 2026 | F44: =F42*Q38 -> 0.012 | G44: =(('Contribuição Previdenciária'!K4 * 'Contribuição Previdenciária'!J4) * 'Contribuição Previdenciária'!L4) * 'Contribuição Previdenciária'!G4 -> 0.038662 | I44: =G44+F44 -> 0.050662 | J44: =$G$46 -> 0.077324 | L44: 2026 | M44: =IF('Contribuição Previdenciária'!$C$2 = "Sim", 'Contribuição Previdenciária'!S4, 0) -> 0.035688
D45: 2027 | F45: =F42*Q39 -> 0.008 | G45: =(('Contribuição Previdenciária'!K5 * 'Contribuição Previdenciária'!J5) * 'Contribuição Previdenciária'!L5) * 'Contribuição Previdenciária'!G5 -> 0.057993 | I45: =G45+F45 -> 0.065993 | J45: =$G$46 -> 0.077324 | L45: 2027 | M45: =IF('Contribuição Previdenciária'!$C$2 = "Sim", 'Contribuição Previdenciária'!S5, 0) -> 0.035688
D46: 2028 | F46: 0 | G46: =(('Contribuição Previdenciária'!K6 * 'Contribuição Previdenciária'!J6) * 'Contribuição Previdenciária'!L6) * 'Contribuição Previdenciária'!G6 -> 0.077324 | I46: =G46+F46 -> 0.077324 | J46: =$G$46 -> 0.077324 | L46: 2028 | M46: =IF('Contribuição Previdenciária'!$C$2 = "Sim", 'Contribuição Previdenciária'!S6, 0) -> 0.035688
D50: Contribuição Previdenciária Patronal Total | J50: Parte Desonerada + Parte Onerada
F53: Parte Desonerada | G53: Parte Onerada | J53: Contribuição Total (Desoneração) | L53: Contribuição Total (20% da Folha)
D54: Ano
D56: 2024 | F56: =IF('Contribuição Previdenciária'!$C$2 = "Sim", (I42 * 'Contribuição Previdenciária'!D2), 'Simulação Tributária'!I42) -> 0.01 | G56: =M42 *'Contribuição Previdenciária'!E2 -> 0.017844 | H56: #VALUE! | J56: =IF('Contribuição Previdenciária'!C2 = "Não", 'Simulação Tributária'!I42, ('Simulação Tributária'!F56 + 'Simulação Tributária'!G56)) -> 0.027844 | L56: =$J$60 -> 0.056506
D57: 2025 | F57: =IF('Contribuição Previdenciária'!$C$2 = "Sim", (I43 * 'Contribuição Previdenciária'!D3), 'Simulação Tributária'!I43) -> 0.0176655 | G57: =M43 *'Contribuição Previdenciária'!E3 -> 0.017844 | J57: =IF('Contribuição Previdenciária'!C3 = "Não", 'Simulação Tributária'!I43, ('Simulação Tributária'!F57 + 'Simulação Tributária'!G57)) -> 0.0355095 | L57: =$J$60 -> 0.056506
...
